BEGIN:VCALENDAR
VERSION:2.0
PRODID:-//ChurchDev//Events//EN
CALSCALE:GREGORIAN
METHOD:PUBLISH
BEGIN:VEVENT
UID:3110-20260403@www.maccommunitybc.org
SUMMARY:Good Friday Service
DTSTART:20260403T223000Z
DTEND:20260403T233000Z
DESCRIPTION:https://www.maccommunitybc.org/events/good-friday-service/
LOCATION:5507 Winder Hwy Braselton GA 30517
URL:https://www.maccommunitybc.org/events/good-friday-service/
DTSTAMP:20260419T200906Z
END:VEVENT
END:VCALENDAR
