BEGIN:VCALENDAR
VERSION:2.0
PRODID:-//ChurchDev//Events//EN
CALSCALE:GREGORIAN
METHOD:PUBLISH
BEGIN:VEVENT
UID:3111-20260405@www.maccommunitybc.org
SUMMARY:Community Easter Breakfast
DTSTART:20260405T134500Z
DTEND:20260405T144500Z
DESCRIPTION:https://www.maccommunitybc.org/events/community-easter-breakfast/
LOCATION:5507 Winder Hwy Braselton GA 30517
URL:https://www.maccommunitybc.org/events/community-easter-breakfast/
DTSTAMP:20260419T200846Z
END:VEVENT
END:VCALENDAR
