BEGIN:VCALENDAR
VERSION:2.0
PRODID:-//ChurchDev//Events//EN
CALSCALE:GREGORIAN
METHOD:PUBLISH
BEGIN:VEVENT
UID:3112-20260405@www.maccommunitybc.org
SUMMARY:Easter Celebration Service
DTSTART:20260405T150000Z
DTEND:20260405T160000Z
DESCRIPTION:https://www.maccommunitybc.org/events/easter-celebration-service/
LOCATION:5507 Winder Hwy Braselton GA 30517
URL:https://www.maccommunitybc.org/events/easter-celebration-service/
DTSTAMP:20260419T200908Z
END:VEVENT
END:VCALENDAR
