BEGIN:VCALENDAR
VERSION:2.0
PRODID:-//ChurchDev//Events//EN
CALSCALE:GREGORIAN
METHOD:PUBLISH
BEGIN:VEVENT
UID:3113-20260419@www.maccommunitybc.org
SUMMARY:Free Family Movie Night
DTSTART:20260419T210000Z
DTEND:20260419T220000Z
DESCRIPTION:&#8220\;Joseph: King of Dreams&#8221\; Free popcorn and drinks.\\n\\nhttps://www.maccommunitybc.org/events/free-family-movie-night/
LOCATION:5507 Winder Hwy Braselton GA 30517
URL:https://www.maccommunitybc.org/events/free-family-movie-night/
DTSTAMP:20260419T200847Z
END:VEVENT
END:VCALENDAR
